BEGIN:VCALENDAR
VERSION:2.0
PRODID:-//Spectrum Sports Management - ECPv6.15.20//NONSGML v1.0//EN
CALSCALE:GREGORIAN
METHOD:PUBLISH
X-WR-CALNAME:Spectrum Sports Management
X-ORIGINAL-URL:https://spectrumsports.net
X-WR-CALDESC:Events for Spectrum Sports Management
REFRESH-INTERVAL;VALUE=DURATION:PT1H
X-Robots-Tag:noindex
X-PUBLISHED-TTL:PT1H
BEGIN:VTIMEZONE
TZID:America/Los_Angeles
BEGIN:DAYLIGHT
TZOFFSETFROM:-0800
TZOFFSETTO:-0700
TZNAME:PDT
DTSTART:20250309T100000
END:DAYLIGHT
BEGIN:STANDARD
TZOFFSETFROM:-0700
TZOFFSETTO:-0800
TZNAME:PST
DTSTART:20251102T090000
END:STANDARD
BEGIN:DAYLIGHT
TZOFFSETFROM:-0800
TZOFFSETTO:-0700
TZNAME:PDT
DTSTART:20260308T100000
END:DAYLIGHT
BEGIN:STANDARD
TZOFFSETFROM:-0700
TZOFFSETTO:-0800
TZNAME:PST
DTSTART:20261101T090000
END:STANDARD
BEGIN:DAYLIGHT
TZOFFSETFROM:-0800
TZOFFSETTO:-0700
TZNAME:PDT
DTSTART:20270314T100000
END:DAYLIGHT
BEGIN:STANDARD
TZOFFSETFROM:-0700
TZOFFSETTO:-0800
TZNAME:PST
DTSTART:20271107T090000
END:STANDARD
BEGIN:DAYLIGHT
TZOFFSETFROM:-0800
TZOFFSETTO:-0700
TZNAME:PDT
DTSTART:20280312T100000
END:DAYLIGHT
BEGIN:STANDARD
TZOFFSETFROM:-0700
TZOFFSETTO:-0800
TZNAME:PST
DTSTART:20281105T090000
END:STANDARD
END:VTIMEZONE
BEGIN:VEVENT
DTSTART;VALUE=DATE:20260502
DTEND;VALUE=DATE:20260503
DTSTAMP:20260423T054639
CREATED:20260114T164421Z
LAST-MODIFIED:20260114T164421Z
UID:10000034-1777680000-1777766399@spectrumsports.net
SUMMARY:Nurses Rock Run/Walk
DESCRIPTION:
URL:https://spectrumsports.net/list-event/nurses-rock-run-walk/
LOCATION:San Dimas\, 120 Via Verde\, San Dimas\, CA\, 91773
CATEGORIES:Run/Walk,TIMING ONLY
ATTACH;FMTTYPE=image/png:https://spectrumsports.net/wp-content/uploads/2026/01/genericImage-websiteLogo-100323-1728083976.0383-0.bNahGi.png
END:VEVENT
BEGIN:VEVENT
DTSTART;TZID=America/Los_Angeles:20260525T070000
DTEND;TZID=America/Los_Angeles:20260525T130000
DTSTAMP:20260423T054639
CREATED:20250319T221428Z
LAST-MODIFIED:20260114T032434Z
UID:10000003-1779692400-1779714000@spectrumsports.net
SUMMARY:Laguna Hills Memorial Day Half Marathon\, 5K\, 10K
DESCRIPTION:
URL:https://spectrumsports.net/list-event/laguna-hills-memorial-day-half-marathon-5k-10k/
LOCATION:Laguna Hills\, Calle De La Louisa\, Laguna Hills\, 92653\, United States
CATEGORIES:Run/Walk
ATTACH;FMTTYPE=image/jpeg:https://spectrumsports.net/wp-content/uploads/2025/03/2022LHHM_logo-1.jpg
END:VEVENT
BEGIN:VEVENT
DTSTART;VALUE=DATE:20260613
DTEND;VALUE=DATE:20260614
DTSTAMP:20260423T054639
CREATED:20260122T214335Z
LAST-MODIFIED:20260122T214335Z
UID:10000037-1781308800-1781395199@spectrumsports.net
SUMMARY:Bike the Coast Ventura
DESCRIPTION:
URL:https://spectrumsports.net/list-event/https-runsignup-com-race-ca-ventura-bikethecoastventura/
LOCATION:Ventura\, CA\, Plaza Park E. Thompson Blvd.\, Ventura\, CA\, 93001
CATEGORIES:Cycling
ATTACH;FMTTYPE=image/png:https://spectrumsports.net/wp-content/uploads/2026/01/genericImage-websiteLogo-268991-1765431998.5055-0.bPoLQ-.png
END:VEVENT
BEGIN:VEVENT
DTSTART;TZID=America/Los_Angeles:20260620T080000
DTEND;TZID=America/Los_Angeles:20260620T100000
DTSTAMP:20260423T054639
CREATED:20260403T234256Z
LAST-MODIFIED:20260403T234256Z
UID:10000039-1781942400-1781949600@spectrumsports.net
SUMMARY:Nixon 5k for Title IX
DESCRIPTION:Celebrate the women and girls in your life in this family-friendly event to commemorate the achievements of Title IX\, the landmark equality legislation signed by President Nixon fifty-three years ago. \nBring your family\, friends\, sports teams and community groups to the NIXON 5K FOR TITLE IX and run (or walk) this moderate course following Yorba Linda’s El Cajon Trail. Athletes are encouraged to wear their favorite team gear supporting female sports! This is accessible for runners of all levels; strollers are welcome and dogs are allowed. Following the race\, guests are invited to stop by the vendor fair in the Library parking lot!
URL:https://spectrumsports.net/list-event/nixon-5k-for-title-ix/
LOCATION:Yorba Linda\, 5091 Mountain View Ave.\, Yorba Linda\, CA\, 92886
CATEGORIES:Event Services,Run/Walk
ATTACH;FMTTYPE=image/png:https://spectrumsports.net/wp-content/uploads/2026/04/race140058-logo-0.bJJ9Lx.png
END:VEVENT
BEGIN:VEVENT
DTSTART;TZID=America/Los_Angeles:20260704T070000
DTEND;TZID=America/Los_Angeles:20260704T100000
DTSTAMP:20260423T054639
CREATED:20260403T222942Z
LAST-MODIFIED:20260403T233017Z
UID:10000038-1783148400-1783159200@spectrumsports.net
SUMMARY:Surf City Run - 4th of July
DESCRIPTION:The Surf City Run 5K in Huntington Beach takes place along the historic route of Main Street and Pacific Coast Highway.  Come out and enjoy an ‘All-American’ start to this terrific Holiday by running along our parade route and seeing the famous pier and beautiful Pacific Ocean before a gentle sloping return to Worthy Park for the finish.
URL:https://spectrumsports.net/list-event/surf-city-run-4th-of-july/
LOCATION:Huntington Beach\, 1801 Main Street\, Huntington Beach\, CA\, 92646\, United States
CATEGORIES:Run/Walk
ATTACH;FMTTYPE=image/jpeg:https://spectrumsports.net/wp-content/uploads/2026/04/surf-city-1.jpg
END:VEVENT
BEGIN:VEVENT
DTSTART;TZID=America/Los_Angeles:20260704T070000
DTEND;TZID=America/Los_Angeles:20260704T100000
DTSTAMP:20260423T054639
CREATED:20260403T235219Z
LAST-MODIFIED:20260403T235433Z
UID:10000040-1783148400-1783159200@spectrumsports.net
SUMMARY:Palisades Will Rogers Park 5k/10k Run
DESCRIPTION:The Will Rogers Pacific Palisades Fourth of July 10K will challenge you and reward you with terrain like you have never experienced.   Running with views of the ocean in the distance\, navigating switch backs through the backroads of Will Rogers State Park and then finishing at the iconic finish line where many elite runners and Olympians have finished will be a breathtaking experience.  Come out and challenge yourself\, and see firsthand\, from the ground floor\, the resurrection of the Palisades.   All while celebrating the USA’s 250th anniversary.
URL:https://spectrumsports.net/list-event/palisades-will-rogers-park-5k-10k-run/
LOCATION:Pacific Palisades
CATEGORIES:Run/Walk
ATTACH;FMTTYPE=image/png:https://spectrumsports.net/wp-content/uploads/2026/04/race128970-logo-0.bIwqt_.png
END:VEVENT
BEGIN:VEVENT
DTSTART;TZID=America/Los_Angeles:20260822T073000
DTEND;TZID=America/Los_Angeles:20260822T103000
DTSTAMP:20260423T054639
CREATED:20260410T205157Z
LAST-MODIFIED:20260410T205546Z
UID:10000041-1787383800-1787394600@spectrumsports.net
SUMMARY:Albert Rivera Menudo Run
DESCRIPTION:For over 40 years\, the Al Rivera Menudo Run 5K/10K has reached athletes\, novices\, family\, friends\, and community members. This event historically begins on a beautiful August morning at Whittier Narrows “Legg Lake” Park.  This years event will feature a 5k Run\, 10k Run\, Fun Run\, Kiddy Run and a Team Race!
URL:https://spectrumsports.net/list-event/albert-rivera-menudo-run/
LOCATION:South El Monte\, 750 S Santa Anita Ave\, El Monte\, CA\, 91733
CATEGORIES:TIMING ONLY
ATTACH;FMTTYPE=image/png:https://spectrumsports.net/wp-content/uploads/2026/04/menudo-run.png
END:VEVENT
BEGIN:VEVENT
DTSTART;VALUE=DATE:20261024
DTEND;VALUE=DATE:20261025
DTSTAMP:20260423T054639
CREATED:20250810T030519Z
LAST-MODIFIED:20260123T001535Z
UID:10000017-1792800000-1792886399@spectrumsports.net
SUMMARY:Bike the Coast Oceanside
DESCRIPTION:
URL:https://spectrumsports.net/list-event/bike-the-coast/
LOCATION:Oceanside Pier\, 122 N. The Strand\, Oceanside\, 92054\, United States
CATEGORIES:Cycling
ATTACH;FMTTYPE=image/jpeg:https://spectrumsports.net/wp-content/uploads/2025/08/IMG_1685.jpg
END:VEVENT
BEGIN:VEVENT
DTSTART;VALUE=DATE:20261114
DTEND;VALUE=DATE:20261115
DTSTAMP:20260423T054639
CREATED:20250810T031844Z
LAST-MODIFIED:20260114T023036Z
UID:10000019-1794614400-1794700799@spectrumsports.net
SUMMARY:Catalina Island Half Marathon
DESCRIPTION:
URL:https://spectrumsports.net/list-event/catalina-half-marathon/
LOCATION:Catalina Island\, Crescent Ave\, Avalon\, CA\, 90704\, United States
CATEGORIES:Run/Walk
ATTACH;FMTTYPE=image/jpeg:https://spectrumsports.net/wp-content/uploads/2025/08/cal-events_16-9_CIHM.jpg
END:VEVENT
BEGIN:VEVENT
DTSTART;TZID=America/Los_Angeles:20261126T070000
DTEND;TZID=America/Los_Angeles:20261126T170000
DTSTAMP:20260423T054639
CREATED:20250810T184305Z
LAST-MODIFIED:20260404T000920Z
UID:10000022-1795676400-1795712400@spectrumsports.net
SUMMARY:Dana Point Turkey Trot
DESCRIPTION:
URL:https://spectrumsports.net/list-event/dana-point-turkey-trot/
LOCATION:Dana Point Harbor\, 25001 Dana Point Harbor Dr\, Dana Point\, 92629\, United States
CATEGORIES:TIMING ONLY
ATTACH;FMTTYPE=image/jpeg:https://spectrumsports.net/wp-content/uploads/2025/08/cal-events_16-9_DanaPointTurkeyTrot.jpg
END:VEVENT
BEGIN:VEVENT
DTSTART;TZID=America/Los_Angeles:20261126T070000
DTEND;TZID=America/Los_Angeles:20261126T170000
DTSTAMP:20260423T054639
CREATED:20250810T193733Z
LAST-MODIFIED:20260404T000451Z
UID:10000023-1795676400-1795712400@spectrumsports.net
SUMMARY:Martha's Village Turkey Trot
DESCRIPTION:The Martha’s Village & Kitchen Thanksgiving Day 5K is an annual\, family friendly run and walk held in Palm Desert\, California and this year we are celebrating 20 years of giving back! This beloved Thanksgiving tradition brings more than 5\,000 participants\, spectators\, and volunteers together to raise awareness and critical funds in support of Martha’s Village & Kitchen and our mission to end hunger and homelessness in the Coachella Valley. Race day is a full celebration featuring a live DJ and stage\, trophy presentations\, and a high energy finish line experience. Register as an individual\, start a team\, or join an existing team and get ready to run or walk for a cause!
URL:https://spectrumsports.net/list-event/marthas-village-turkey-trot/
LOCATION:Palm Desert\, 73545 El Paseo\, Palm Desert\, 92260\, United States
CATEGORIES:TIMING ONLY
ATTACH;FMTTYPE=image/jpeg:https://spectrumsports.net/wp-content/uploads/2025/08/cal-events_16-9_MarthasVillageTurkeyTrot.jpg
END:VEVENT
BEGIN:VEVENT
DTSTART;TZID=America/Los_Angeles:20270109T050000
DTEND;TZID=America/Los_Angeles:20270109T170000
DTSTAMP:20260423T054639
CREATED:20250810T201517Z
LAST-MODIFIED:20260410T210219Z
UID:10000026-1799470800-1799514000@spectrumsports.net
SUMMARY:Avalon Benefit 50 Mile/50K Run
DESCRIPTION:The Avalon Benefit 50 Mile/50K Run is the oldest Ultra Trail Run in California with the 50 Mile run entering its 44th year.   The 50K joined the party seven years ago and instantly became a California classic in trail running traversing all of the same trails that the older run uses.   Running the Avalon Benefit 50Mile/50K provides you a first rate\, up-close and personal experience of one of California’s natural jewels in trail running across Catalina Island.   The run begins and ends in Avalon and in between you simply have to run the entire length of the island – and back!  In between you will experience beautiful vistas\, tremendous views of the Pacific Ocean\, see a bison or two and experience some of the sports great volunteers and aid stations.
URL:https://spectrumsports.net/list-event/avalon-benefit-50-mile-50k-run/
LOCATION:Catalina Island\, Crescent Ave\, Avalon\, CA\, 90704\, United States
CATEGORIES:Run/Walk
ATTACH;FMTTYPE=image/png:https://spectrumsports.net/wp-content/uploads/2025/08/avalon.png
END:VEVENT
END:VCALENDAR